BEGIN:VCALENDAR
VERSION:2.0
PRODID:-//MSC Ehlhalten e.V. im ADAC - ECPv6.15.20//NONSGML v1.0//EN
CALSCALE:GREGORIAN
METHOD:PUBLISH
X-ORIGINAL-URL:https://www.msc-ehlhalten.de
X-WR-CALDESC:Veranstaltungen für MSC Ehlhalten e.V. im ADAC
REFRESH-INTERVAL;VALUE=DURATION:PT1H
X-Robots-Tag:noindex
X-PUBLISHED-TTL:PT1H
BEGIN:VTIMEZONE
TZID:Europe/Berlin
BEGIN:DAYLIGHT
TZOFFSETFROM:+0100
TZOFFSETTO:+0200
TZNAME:CEST
DTSTART:20250330T010000
END:DAYLIGHT
BEGIN:STANDARD
TZOFFSETFROM:+0200
TZOFFSETTO:+0100
TZNAME:CET
DTSTART:20251026T010000
END:STANDARD
BEGIN:DAYLIGHT
TZOFFSETFROM:+0100
TZOFFSETTO:+0200
TZNAME:CEST
DTSTART:20260329T010000
END:DAYLIGHT
BEGIN:STANDARD
TZOFFSETFROM:+0200
TZOFFSETTO:+0100
TZNAME:CET
DTSTART:20261025T010000
END:STANDARD
BEGIN:DAYLIGHT
TZOFFSETFROM:+0100
TZOFFSETTO:+0200
TZNAME:CEST
DTSTART:20270328T010000
END:DAYLIGHT
BEGIN:STANDARD
TZOFFSETFROM:+0200
TZOFFSETTO:+0100
TZNAME:CET
DTSTART:20271031T010000
END:STANDARD
END:VTIMEZONE
BEGIN:VEVENT
DTSTART;TZID=Europe/Berlin:20260523T080000
DTEND;TZID=Europe/Berlin:20260523T170000
DTSTAMP:20260419T190536
CREATED:20260326T171822Z
LAST-MODIFIED:20260326T171822Z
UID:533-1779523200-1779555600@www.msc-ehlhalten.de
SUMMARY:Kart 2000 - MSC Werratal-Witzenhausen/Braach
DESCRIPTION:
URL:https://www.msc-ehlhalten.de/event/kart-2000-msc-werratal-witzenhausen-braach/
CATEGORIES:jugend-kart-meisterschaft
END:VEVENT
BEGIN:VEVENT
DTSTART;VALUE=DATE:20260529
DTEND;VALUE=DATE:20260605
DTSTAMP:20260419T190536
CREATED:20260326T172744Z
LAST-MODIFIED:20260326T172744Z
UID:561-1780012800-1780617599@www.msc-ehlhalten.de
SUMMARY:42. Kohlenmeilerfest
DESCRIPTION:
URL:https://www.msc-ehlhalten.de/event/42-kohlenmeilerfest/
CATEGORIES:kohlenmeiler
END:VEVENT
BEGIN:VEVENT
DTSTART;VALUE=DATE:20260606
DTEND;VALUE=DATE:20260607
DTSTAMP:20260419T190536
CREATED:20260326T171954Z
LAST-MODIFIED:20260326T171954Z
UID:535-1780704000-1780790399@www.msc-ehlhalten.de
SUMMARY:Kart 2000 - RAC Borken
DESCRIPTION:
URL:https://www.msc-ehlhalten.de/event/kart-2000-rac-borken/
CATEGORIES:jugend-kart-meisterschaft
END:VEVENT
BEGIN:VEVENT
DTSTART;VALUE=DATE:20260607
DTEND;VALUE=DATE:20260608
DTSTAMP:20260419T190536
CREATED:20260326T172019Z
LAST-MODIFIED:20260326T172019Z
UID:537-1780790400-1780876799@www.msc-ehlhalten.de
SUMMARY:Kart Turnier - RAC Borken
DESCRIPTION:
URL:https://www.msc-ehlhalten.de/event/kart-turnier-rac-borken/
CATEGORIES:jugend-kart-meisterschaft
END:VEVENT
BEGIN:VEVENT
DTSTART;VALUE=DATE:20260613
DTEND;VALUE=DATE:20260614
DTSTAMP:20260419T190536
CREATED:20260326T172135Z
LAST-MODIFIED:20260326T172135Z
UID:539-1781308800-1781395199@www.msc-ehlhalten.de
SUMMARY:Kart 2000 - MSC Freigericht
DESCRIPTION:
URL:https://www.msc-ehlhalten.de/event/kart-2000-msc-freigericht/
CATEGORIES:jugend-kart-meisterschaft
END:VEVENT
BEGIN:VEVENT
DTSTART;VALUE=DATE:20260614
DTEND;VALUE=DATE:20260615
DTSTAMP:20260419T190536
CREATED:20260326T172158Z
LAST-MODIFIED:20260326T172158Z
UID:541-1781395200-1781481599@www.msc-ehlhalten.de
SUMMARY:Kart Turnier - MSC Freigericht
DESCRIPTION:
URL:https://www.msc-ehlhalten.de/event/kart-turnier-msc-freigericht-2/
CATEGORIES:jugend-kart-meisterschaft
END:VEVENT
BEGIN:VEVENT
DTSTART;VALUE=DATE:20260620
DTEND;VALUE=DATE:20260621
DTSTAMP:20260419T190536
CREATED:20260326T172223Z
LAST-MODIFIED:20260326T172223Z
UID:543-1781913600-1781999999@www.msc-ehlhalten.de
SUMMARY:Kart 2000 - MSC Ehlhalten
DESCRIPTION:
URL:https://www.msc-ehlhalten.de/event/kart-2000-msc-ehlhalten/
CATEGORIES:jugend-kart-meisterschaft
END:VEVENT
BEGIN:VEVENT
DTSTART;VALUE=DATE:20260621
DTEND;VALUE=DATE:20260622
DTSTAMP:20260419T190536
CREATED:20260326T172247Z
LAST-MODIFIED:20260326T172247Z
UID:545-1782000000-1782086399@www.msc-ehlhalten.de
SUMMARY:Kart Turnier - MSC Ehlhalten
DESCRIPTION:
URL:https://www.msc-ehlhalten.de/event/kart-turnier-msc-ehlhalten/
CATEGORIES:jugend-kart-meisterschaft
END:VEVENT
BEGIN:VEVENT
DTSTART;VALUE=DATE:20260815
DTEND;VALUE=DATE:20260816
DTSTAMP:20260419T190536
CREATED:20260326T172319Z
LAST-MODIFIED:20260326T172319Z
UID:547-1786752000-1786838399@www.msc-ehlhalten.de
SUMMARY:Kart 2000 - MSC Wolfhagen
DESCRIPTION:
URL:https://www.msc-ehlhalten.de/event/kart-2000-msc-wolfhagen/
CATEGORIES:jugend-kart-meisterschaft
END:VEVENT
BEGIN:VEVENT
DTSTART;VALUE=DATE:20260816
DTEND;VALUE=DATE:20260817
DTSTAMP:20260419T190536
CREATED:20260326T172345Z
LAST-MODIFIED:20260326T172345Z
UID:549-1786838400-1786924799@www.msc-ehlhalten.de
SUMMARY:Kart Turnier - MSC Wolfhagen
DESCRIPTION:
URL:https://www.msc-ehlhalten.de/event/kart-turnier-msc-wolfhagen/
CATEGORIES:jugend-kart-meisterschaft
END:VEVENT
BEGIN:VEVENT
DTSTART;VALUE=DATE:20260822
DTEND;VALUE=DATE:20260823
DTSTAMP:20260419T190536
CREATED:20260326T172414Z
LAST-MODIFIED:20260326T172414Z
UID:551-1787356800-1787443199@www.msc-ehlhalten.de
SUMMARY:Kart 2000 - MSC Sachsenhausen
DESCRIPTION:
URL:https://www.msc-ehlhalten.de/event/kart-2000-msc-sachsenhausen/
CATEGORIES:jugend-kart-meisterschaft
END:VEVENT
BEGIN:VEVENT
DTSTART;VALUE=DATE:20260823
DTEND;VALUE=DATE:20260824
DTSTAMP:20260419T190536
CREATED:20260326T172434Z
LAST-MODIFIED:20260326T172434Z
UID:553-1787443200-1787529599@www.msc-ehlhalten.de
SUMMARY:Kart Turnier - MSC Sachsenhausen
DESCRIPTION:
URL:https://www.msc-ehlhalten.de/event/kart-turnier-msc-sachsenhausen-2/
CATEGORIES:jugend-kart-meisterschaft
END:VEVENT
BEGIN:VEVENT
DTSTART;VALUE=DATE:20260912
DTEND;VALUE=DATE:20260913
DTSTAMP:20260419T190536
CREATED:20260326T172502Z
LAST-MODIFIED:20260326T172502Z
UID:555-1789171200-1789257599@www.msc-ehlhalten.de
SUMMARY:Kart 2000 - Fuldaer AC
DESCRIPTION:
URL:https://www.msc-ehlhalten.de/event/kart-2000-fuldaer-ac/
CATEGORIES:jugend-kart-meisterschaft
END:VEVENT
BEGIN:VEVENT
DTSTART;VALUE=DATE:20260913
DTEND;VALUE=DATE:20260914
DTSTAMP:20260419T190536
CREATED:20260326T172522Z
LAST-MODIFIED:20260326T172522Z
UID:557-1789257600-1789343999@www.msc-ehlhalten.de
SUMMARY:Kart Turnier - Fuldaer AC
DESCRIPTION:
URL:https://www.msc-ehlhalten.de/event/kart-turnier-fuldaer-ac-2/
CATEGORIES:jugend-kart-meisterschaft
END:VEVENT
BEGIN:VEVENT
DTSTART;VALUE=DATE:20261024
DTEND;VALUE=DATE:20261025
DTSTAMP:20260419T190536
CREATED:20260326T172558Z
LAST-MODIFIED:20260326T172558Z
UID:559-1792800000-1792886399@www.msc-ehlhalten.de
SUMMARY:Kart Turnier - RAC Borken
DESCRIPTION:
URL:https://www.msc-ehlhalten.de/event/kart-turnier-rac-borken-2/
CATEGORIES:jugend-kart-meisterschaft
END:VEVENT
END:VCALENDAR